BEGIN:VCALENDAR
VERSION:2.0
PRODID:DPCALENDAR
CALSCALE:GREGORIAN
BEGIN:VTIMEZONE
TZID:Europe/Paris
X-MICROSOFT-CDO-TZID:3
BEGIN:STANDARD
DTSTART:20251026T010000
TZOFFSETFROM:+0200
TZOFFSETTO:+0100
TZNAME:CET
END:STANDARD
BEGIN:DAYLIGHT
DTSTART:20260329T010000
TZOFFSETFROM:+0100
TZOFFSETTO:+0200
TZNAME:CEST
END:DAYLIGHT
BEGIN:STANDARD
DTSTART:20261025T010000
TZOFFSETFROM:+0200
TZOFFSETTO:+0100
TZNAME:CET
END:STANDARD
END:VTIMEZONE
X-WR-TIMEZONE:Europe/Paris
BEGIN:VEVENT
DTSTART;VALUE=DATE:20260423
DTEND;VALUE=DATE:20260424
UID:0de7qovmr7cvs9ps8l7mh3hhj7@google.com
SUMMARY:Saint Georges, Martyr
DTSTAMP:20260410T171644Z
DESCRIPTION:
X-ALT-DESC;FMTTYPE=text/html:
LAST-MODIFIED:20260410T171645Z
X-ACCESS:1
X-HITS:0
X-URL:https://www.google.com/calendar/event?eid=MGRlN3Fvdm1yN2N2czlwczhsN21oM2hoajcgajgxMm9lYWhkcDM5NW5wYzRzNjgycGlwcWdAZw
X-COLOR:c2c2c2
END:VEVENT
END:VCALENDAR